BEGIN:VCALENDAR
VERSION:2.0
PRODID:-//Formazione GC - ECPv6.13.2//NONSGML v1.0//EN
CALSCALE:GREGORIAN
METHOD:PUBLISH
X-ORIGINAL-URL:https://formazionegc.eve-lab.com
X-WR-CALDESC:Eventi per Formazione GC
REFRESH-INTERVAL;VALUE=DURATION:PT1H
X-Robots-Tag:noindex
X-PUBLISHED-TTL:PT1H
BEGIN:VTIMEZONE
TZID:Europe/Rome
BEGIN:DAYLIGHT
TZOFFSETFROM:+0100
TZOFFSETTO:+0200
TZNAME:CEST
DTSTART:20250330T010000
END:DAYLIGHT
BEGIN:STANDARD
TZOFFSETFROM:+0200
TZOFFSETTO:+0100
TZNAME:CET
DTSTART:20251026T010000
END:STANDARD
END:VTIMEZONE
BEGIN:VEVENT
DTSTART;TZID=Europe/Rome:20250919T090000
DTEND;TZID=Europe/Rome:20250919T180000
DTSTAMP:20260420T073006
CREATED:20250415T084129Z
LAST-MODIFIED:20250728T073749Z
UID:503-1758272400-1758304800@formazionegc.eve-lab.com
SUMMARY:Flow Injection technique\, restauri diretti e indiretti: come trattare il gruppo frontale
DESCRIPTION:Relatore: Edoardo Yang Fossati. Corso pratico in presenza.
URL:https://formazionegc.eve-lab.com/evento/flow-injection-restauri-direttindiretti-190925/
LOCATION:Sede Aurodental srl\, Via Lorenzo Bernini 4\, San Zeno Naviglio\, (BS)\, 25010\, Italy
CATEGORIES:Presenza,SOLD OUT,Studio
ATTACH;FMTTYPE=image/png:https://formazionegc.eve-lab.com/wp-content/uploads/2025/07/sold-out-2.png
END:VEVENT
BEGIN:VEVENT
DTSTART;TZID=Europe/Rome:20250920T090000
DTEND;TZID=Europe/Rome:20250920T180000
DTSTAMP:20260420T073006
CREATED:20250509T124007Z
LAST-MODIFIED:20250624T100006Z
UID:530-1758358800-1758391200@formazionegc.eve-lab.com
SUMMARY:Flow Injection technique\, restauri diretti e indiretti: come trattare il gruppo frontale
DESCRIPTION:Relatore: Edoardo Yang Fossati. Corso pratico in presenza.
URL:https://formazionegc.eve-lab.com/evento/flow-injection-pordenone-settembre/
LOCATION:Athena Srl\, Via Interporto Centro Ingrosso\, 45\, Pordenone\, 33170\, Italy
CATEGORIES:Presenza,Studio
ATTACH;FMTTYPE=image/jpeg:https://formazionegc.eve-lab.com/wp-content/uploads/2025/01/img14-1.jpg
END:VEVENT
END:VCALENDAR