BEGIN:VCALENDAR
VERSION:2.0
PRODID:-//Formazione GC - ECPv6.13.2//NONSGML v1.0//EN
CALSCALE:GREGORIAN
METHOD:PUBLISH
X-WR-CALNAME:Formazione GC
X-ORIGINAL-URL:https://formazionegc.eve-lab.com
X-WR-CALDESC:Eventi per Formazione GC
REFRESH-INTERVAL;VALUE=DURATION:PT1H
X-Robots-Tag:noindex
X-PUBLISHED-TTL:PT1H
BEGIN:VTIMEZONE
TZID:Europe/Rome
BEGIN:DAYLIGHT
TZOFFSETFROM:+0100
TZOFFSETTO:+0200
TZNAME:CEST
DTSTART:20250330T010000
END:DAYLIGHT
BEGIN:STANDARD
TZOFFSETFROM:+0200
TZOFFSETTO:+0100
TZNAME:CET
DTSTART:20251026T010000
END:STANDARD
END:VTIMEZONE
BEGIN:VEVENT
DTSTART;TZID=Europe/Rome:20250208T090000
DTEND;TZID=Europe/Rome:20250208T170000
DTSTAMP:20260422T192847
CREATED:20250409T153138Z
LAST-MODIFIED:20250409T223728Z
UID:432-1739005200-1739034000@formazionegc.eve-lab.com
SUMMARY:Nuovi orientamenti sui restauri anteriori e latero posteriori
DESCRIPTION:Relatore: Giancarlo Pongione. Corso pratico in presenza.
URL:https://formazionegc.eve-lab.com/evento/restauri-anteriori-latero-posteriori-080225/
LOCATION:Montespina Park Hotel ****\, Via Prov. San Gennaro 2\, Napoli\, 80125\, Italy
CATEGORIES:Presenza,Studio
END:VEVENT
BEGIN:VEVENT
DTSTART;TZID=Europe/Rome:20250215T090000
DTEND;TZID=Europe/Rome:20250215T140000
DTSTAMP:20260422T192847
CREATED:20250409T153801Z
LAST-MODIFIED:20250409T223812Z
UID:437-1739610000-1739628000@formazionegc.eve-lab.com
SUMMARY:Le nuove frontiere della protesi conservativa digitale: dal mockup agli stampaggi
DESCRIPTION:Relatore: Leonardo Colella
URL:https://formazionegc.eve-lab.com/evento/protesi-conservativa-digitale-mockup-stampaggi-150225/
LOCATION:CNA Bergamo\, Via Gorle 85\, Gorle\, 24020\, Italy
CATEGORIES:Presenza,Studio
ATTACH;FMTTYPE=image/jpeg:https://formazionegc.eve-lab.com/wp-content/uploads/2025/01/img14-2.jpg
END:VEVENT
BEGIN:VEVENT
DTSTART;TZID=Europe/Rome:20250221T090000
DTEND;TZID=Europe/Rome:20250221T180000
DTSTAMP:20260422T192847
CREATED:20250409T153920Z
LAST-MODIFIED:20250409T223853Z
UID:441-1740128400-1740160800@formazionegc.eve-lab.com
SUMMARY:Flow Injection technique: la soluzione più semplice per il veneering diretto
DESCRIPTION: Relatore: Vincenzo Attanasio. Corso pratico in presenza.
URL:https://formazionegc.eve-lab.com/evento/flow-injection-technique-veneering-diretto-210225/
LOCATION:Sede Revello Torino\, Corso Unione Sovietica\, 612/3B\, Torino\, Italy
CATEGORIES:Presenza,Studio
ATTACH;FMTTYPE=image/jpeg:https://formazionegc.eve-lab.com/wp-content/uploads/2025/01/img14-3.jpg
END:VEVENT
BEGIN:VEVENT
DTSTART;TZID=Europe/Rome:20250228T090000
DTEND;TZID=Europe/Rome:20250228T170000
DTSTAMP:20260422T192847
CREATED:20250409T174005Z
LAST-MODIFIED:20250409T223920Z
UID:451-1740733200-1740762000@formazionegc.eve-lab.com
SUMMARY:Flow Injection Technique
DESCRIPTION:Relatore: Giulio Franceschetti. Corso pratico in presenza
URL:https://formazionegc.eve-lab.com/evento/flow-injection-technique-280225/
LOCATION:Sede Dental Trey Viareggio\, Via Felice Cavallotti 23\, Viareggio\, 55049\, Italy
CATEGORIES:Presenza,Studio
ATTACH;FMTTYPE=image/jpeg:https://formazionegc.eve-lab.com/wp-content/uploads/2025/01/img35.jpg
END:VEVENT
END:VCALENDAR