BEGIN:VCALENDAR
VERSION:2.0
PRODID:-//Formazione GC - ECPv6.13.2//NONSGML v1.0//EN
CALSCALE:GREGORIAN
METHOD:PUBLISH
X-ORIGINAL-URL:https://formazionegc.eve-lab.com
X-WR-CALDESC:Eventi per Formazione GC
REFRESH-INTERVAL;VALUE=DURATION:PT1H
X-Robots-Tag:noindex
X-PUBLISHED-TTL:PT1H
BEGIN:VTIMEZONE
TZID:Europe/Rome
BEGIN:DAYLIGHT
TZOFFSETFROM:+0100
TZOFFSETTO:+0200
TZNAME:CEST
DTSTART:20260329T010000
END:DAYLIGHT
BEGIN:STANDARD
TZOFFSETFROM:+0200
TZOFFSETTO:+0100
TZNAME:CET
DTSTART:20261025T010000
END:STANDARD
END:VTIMEZONE
BEGIN:VEVENT
DTSTART;TZID=Europe/Rome:20260424T090000
DTEND;TZID=Europe/Rome:20260424T180000
DTSTAMP:20260419T205223
CREATED:20251112T152000Z
LAST-MODIFIED:20251112T152002Z
UID:712-1777021200-1777053600@formazionegc.eve-lab.com
SUMMARY:Flow Injection technique: la soluzione più semplice per il veneering diretto
DESCRIPTION:Relatore: Vincenzo Attanasio. Corso pratico in presenza.
URL:https://formazionegc.eve-lab.com/evento/flow-injection-technique-attanasio-vimodrone-aprile-2026/
LOCATION:Sede GC Italia\, Via Luigi Cadorna 69\, Vimodrone (MI)\, Italy\, 20055
CATEGORIES:Presenza,Studio
ATTACH;FMTTYPE=image/jpeg:https://formazionegc.eve-lab.com/wp-content/uploads/2025/04/img14-1.jpg
END:VEVENT
END:VCALENDAR