BEGIN:VCALENDAR
VERSION:2.0
PRODID:-//Formazione GC - ECPv6.13.2//NONSGML v1.0//EN
CALSCALE:GREGORIAN
METHOD:PUBLISH
X-ORIGINAL-URL:https://formazionegc.eve-lab.com
X-WR-CALDESC:Eventi per Formazione GC
REFRESH-INTERVAL;VALUE=DURATION:PT1H
X-Robots-Tag:noindex
X-PUBLISHED-TTL:PT1H
BEGIN:VTIMEZONE
TZID:Europe/Rome
BEGIN:DAYLIGHT
TZOFFSETFROM:+0100
TZOFFSETTO:+0200
TZNAME:CEST
DTSTART:20260329T010000
END:DAYLIGHT
BEGIN:STANDARD
TZOFFSETFROM:+0200
TZOFFSETTO:+0100
TZNAME:CET
DTSTART:20261025T010000
END:STANDARD
END:VTIMEZONE
BEGIN:VEVENT
DTSTART;TZID=Europe/Rome:20260606T090000
DTEND;TZID=Europe/Rome:20260606T180000
DTSTAMP:20260420T002019
CREATED:20260113T084104Z
LAST-MODIFIED:20260311T145059Z
UID:733-1780736400-1780768800@formazionegc.eve-lab.com
SUMMARY:Flow Injection technique: progettazione estetica guidata e procedure cliniche per il successo
DESCRIPTION:Relatore: Federico Emiliani. Corso pratico in presenza.
URL:https://formazionegc.eve-lab.com/evento/flow-injection-technique-emiliani-6giugno-grosseto/
LOCATION:HOTEL AIRONE Grosseto\, Via Senese\, 35\, Grosseto\, Toscana\, 58100\, Italy
CATEGORIES:Presenza,Studio
ATTACH;FMTTYPE=image/jpeg:https://formazionegc.eve-lab.com/wp-content/uploads/2025/07/immagine-ragazzo-viola.jpg
END:VEVENT
BEGIN:VEVENT
DTSTART;TZID=Europe/Rome:20260612T090000
DTEND;TZID=Europe/Rome:20260612T180000
DTSTAMP:20260420T002019
CREATED:20260213T115523Z
LAST-MODIFIED:20260331T070231Z
UID:771-1781254800-1781287200@formazionegc.eve-lab.com
SUMMARY:Flow Injection technique: la soluzione più semplice per il veneering diretto
DESCRIPTION:Relatore: Vincenzo Attanasio. Corso pratico in presenza.
URL:https://formazionegc.eve-lab.com/evento/flow-injection-technique-attanasio-giugno-2026-roma/
LOCATION:Novotel Roma Est\, Via Andrea Noale 291\, Roma\, Roma\, 00155\, Italy
CATEGORIES:Presenza,Studio
ATTACH;FMTTYPE=image/jpeg:https://formazionegc.eve-lab.com/wp-content/uploads/2025/04/img14-1.jpg
END:VEVENT
BEGIN:VEVENT
DTSTART;TZID=Europe/Rome:20260620T090000
DTEND;TZID=Europe/Rome:20260620T180000
DTSTAMP:20260420T002019
CREATED:20260121T153811Z
LAST-MODIFIED:20260121T153813Z
UID:740-1781946000-1781978400@formazionegc.eve-lab.com
SUMMARY:Flow Injection technique
DESCRIPTION:Relatore: Giulio Franceschetti. Corso pratico in presenza.
URL:https://formazionegc.eve-lab.com/evento/flow-injection-technique-franceschetti-udine-20-giugno-2026/
LOCATION:Sede Dental Club Udine\, Via Cotonificio\, 45\, Udine\, 33100\, Italy
CATEGORIES:Presenza,Studio
ATTACH;FMTTYPE=image/jpeg:https://formazionegc.eve-lab.com/wp-content/uploads/2025/01/img35.jpg
END:VEVENT
END:VCALENDAR