BEGIN:VCALENDAR
VERSION:2.0
PRODID:-//Formazione GC - ECPv6.13.2//NONSGML v1.0//EN
CALSCALE:GREGORIAN
METHOD:PUBLISH
X-ORIGINAL-URL:https://formazionegc.eve-lab.com
X-WR-CALDESC:Eventi per Formazione GC
REFRESH-INTERVAL;VALUE=DURATION:PT1H
X-Robots-Tag:noindex
X-PUBLISHED-TTL:PT1H
BEGIN:VTIMEZONE
TZID:Europe/Rome
BEGIN:DAYLIGHT
TZOFFSETFROM:+0100
TZOFFSETTO:+0200
TZNAME:CEST
DTSTART:20260329T010000
END:DAYLIGHT
BEGIN:STANDARD
TZOFFSETFROM:+0200
TZOFFSETTO:+0100
TZNAME:CET
DTSTART:20261025T010000
END:STANDARD
END:VTIMEZONE
BEGIN:VEVENT
DTSTART;TZID=Europe/Rome:20260508T090000
DTEND;TZID=Europe/Rome:20260508T180000
DTSTAMP:20260419T222846
CREATED:20260109T100724Z
LAST-MODIFIED:20260109T100727Z
UID:718-1778230800-1778263200@formazionegc.eve-lab.com
SUMMARY:Flow Injection technique\, restauri diretti e indiretti: come trattare il gruppo frontale
DESCRIPTION:Relatore: Edoardo Yang Fossati. Corso pratico in presenza.
URL:https://formazionegc.eve-lab.com/evento/flow-injection-technique-fossati-roma-maggio-2026/
LOCATION:Novotel Roma Est\, Via Andrea Noale 291\, Roma\, Roma\, 00155\, Italy
CATEGORIES:Presenza,Studio
ATTACH;FMTTYPE=image/jpeg:https://formazionegc.eve-lab.com/wp-content/uploads/2025/01/img14-1.jpg
END:VEVENT
BEGIN:VEVENT
DTSTART;TZID=Europe/Rome:20260523T090000
DTEND;TZID=Europe/Rome:20260523T180000
DTSTAMP:20260419T222846
CREATED:20260109T103426Z
LAST-MODIFIED:20260330T145337Z
UID:724-1779526800-1779559200@formazionegc.eve-lab.com
SUMMARY:Flow Injection technique: la soluzione più semplice per il veneering diretto
DESCRIPTION:Relatore: Vincenzo Attanasio. Corso pratico in presenza.
URL:https://formazionegc.eve-lab.com/evento/flow-injection-technique-attanasio-napoli-maggio-2026/
LOCATION:Montespina Park Hotel ****\, Via Prov. San Gennaro 2\, Napoli\, 80125\, Italy
CATEGORIES:Presenza,SOLD OUT,Studio
ATTACH;FMTTYPE=image/png:https://formazionegc.eve-lab.com/wp-content/uploads/2026/02/11.png
END:VEVENT
BEGIN:VEVENT
DTSTART;TZID=Europe/Rome:20260529T090000
DTEND;TZID=Europe/Rome:20260529T180000
DTSTAMP:20260419T222846
CREATED:20260109T111852Z
LAST-MODIFIED:20260109T111853Z
UID:727-1780045200-1780077600@formazionegc.eve-lab.com
SUMMARY:Flow Injection technique: progettazione estetica guidata e procedure cliniche per il successo
DESCRIPTION:Relatore: Federico Emiliani. Corso pratico in presenza.
URL:https://formazionegc.eve-lab.com/evento/flow-injection-technique-progettazione-estetica-guidata-e-procedure-cliniche-per-il-successo/
LOCATION:FOUR POINTS BY SHERATON CATANIA\, Via Antonello da Messina\, 45\, Aci Castello\, Catania\, 95021\, Italy
CATEGORIES:Presenza,Studio
ATTACH;FMTTYPE=image/jpeg:https://formazionegc.eve-lab.com/wp-content/uploads/2025/07/immagine-ragazzo-viola.jpg
END:VEVENT
END:VCALENDAR