BEGIN:VCALENDAR
VERSION:2.0
PRODID:-//Formazione GC - ECPv6.13.2//NONSGML v1.0//EN
CALSCALE:GREGORIAN
METHOD:PUBLISH
X-WR-CALNAME:Formazione GC
X-ORIGINAL-URL:https://formazionegc.eve-lab.com
X-WR-CALDESC:Eventi per Formazione GC
REFRESH-INTERVAL;VALUE=DURATION:PT1H
X-Robots-Tag:noindex
X-PUBLISHED-TTL:PT1H
BEGIN:VTIMEZONE
TZID:Europe/Rome
BEGIN:DAYLIGHT
TZOFFSETFROM:+0100
TZOFFSETTO:+0200
TZNAME:CEST
DTSTART:20250330T010000
END:DAYLIGHT
BEGIN:STANDARD
TZOFFSETFROM:+0200
TZOFFSETTO:+0100
TZNAME:CET
DTSTART:20251026T010000
END:STANDARD
END:VTIMEZONE
BEGIN:VEVENT
DTSTART;TZID=Europe/Rome:20251107T090000
DTEND;TZID=Europe/Rome:20251107T180000
DTSTAMP:20260420T055007
CREATED:20250528T132037Z
LAST-MODIFIED:20250528T132112Z
UID:561-1762506000-1762538400@formazionegc.eve-lab.com
SUMMARY:Flow Injection technique\, restauri diretti e indiretti: come trattare il gruppo frontale
DESCRIPTION:Relatore: Edoardo Yang Fossati. Corso pratico in presenza.
URL:https://formazionegc.eve-lab.com/evento/flow-injection-technique-fossati-07112025/
LOCATION:Hi Hotel Bari – HO Collection\, Via Don Luigi Guanella 15\, Bari\, 70124\, Italy
CATEGORIES:Presenza,Studio
ATTACH;FMTTYPE=image/jpeg:https://formazionegc.eve-lab.com/wp-content/uploads/2025/01/img14-1.jpg
END:VEVENT
BEGIN:VEVENT
DTSTART;TZID=Europe/Rome:20251108T090000
DTEND;TZID=Europe/Rome:20251108T180000
DTSTAMP:20260420T055007
CREATED:20250613T091732Z
LAST-MODIFIED:20251007T080230Z
UID:594-1762592400-1762624800@formazionegc.eve-lab.com
SUMMARY:Flow Injection technique\, restauri diretti e indiretti: come trattare il gruppo frontale
DESCRIPTION:Relatore: Edoardo Yang Fossati. Corso pratico in presenza.
URL:https://formazionegc.eve-lab.com/evento/flow-injection-technique-fossati-8novembre-napoli/
LOCATION:Montespina Park Hotel ****\, Via Prov. San Gennaro 2\, Napoli\, 80125\, Italy
CATEGORIES:Presenza,SOLD OUT,Studio
ATTACH;FMTTYPE=image/png:https://formazionegc.eve-lab.com/wp-content/uploads/2025/07/sold-out-2.png
END:VEVENT
BEGIN:VEVENT
DTSTART;TZID=Europe/Rome:20251114T090000
DTEND;TZID=Europe/Rome:20251114T180000
DTSTAMP:20260420T055007
CREATED:20250528T134026Z
LAST-MODIFIED:20250528T134027Z
UID:566-1763110800-1763143200@formazionegc.eve-lab.com
SUMMARY:Flow Injection technique
DESCRIPTION:Relatore: Giulio Franceschetti. Corso pratico in presenza.
URL:https://formazionegc.eve-lab.com/evento/flow-injection-technique-franceschetti-14112025/
LOCATION:Corte delle Fucine\, Via Nazionale 48\, Buttrio (UD)\, 33042\, Italy
CATEGORIES:Presenza,Studio
ATTACH;FMTTYPE=image/jpeg:https://formazionegc.eve-lab.com/wp-content/uploads/2025/01/img35.jpg
END:VEVENT
BEGIN:VEVENT
DTSTART;TZID=Europe/Rome:20251128T090000
DTEND;TZID=Europe/Rome:20251128T180000
DTSTAMP:20260420T055007
CREATED:20250528T134429Z
LAST-MODIFIED:20250717T100449Z
UID:571-1764320400-1764352800@formazionegc.eve-lab.com
SUMMARY:Nuovi orientamenti sui restauri anteriori e latero posteriori
DESCRIPTION:Relatore: Giancarlo Pongione. Corso pratico in presenza.
URL:https://formazionegc.eve-lab.com/evento/nuovi-orientamenti-sui-restauri-28112025/
LOCATION:Hi Hotel Bari – HO Collection\, Via Don Luigi Guanella 15\, Bari\, 70124\, Italy
CATEGORIES:Presenza,Studio
ATTACH;FMTTYPE=image/png:https://formazionegc.eve-lab.com/wp-content/uploads/2025/05/achord-restauri.png
END:VEVENT
END:VCALENDAR