BEGIN:VCALENDAR
VERSION:2.0
PRODID:-//Formazione GC - ECPv6.13.2//NONSGML v1.0//EN
CALSCALE:GREGORIAN
METHOD:PUBLISH
X-WR-CALNAME:Formazione GC
X-ORIGINAL-URL:https://formazionegc.eve-lab.com
X-WR-CALDESC:Eventi per Formazione GC
REFRESH-INTERVAL;VALUE=DURATION:PT1H
X-Robots-Tag:noindex
X-PUBLISHED-TTL:PT1H
BEGIN:VTIMEZONE
TZID:Europe/Rome
BEGIN:DAYLIGHT
TZOFFSETFROM:+0100
TZOFFSETTO:+0200
TZNAME:CEST
DTSTART:20250330T010000
END:DAYLIGHT
BEGIN:STANDARD
TZOFFSETFROM:+0200
TZOFFSETTO:+0100
TZNAME:CET
DTSTART:20251026T010000
END:STANDARD
BEGIN:DAYLIGHT
TZOFFSETFROM:+0100
TZOFFSETTO:+0200
TZNAME:CEST
DTSTART:20260329T010000
END:DAYLIGHT
BEGIN:STANDARD
TZOFFSETFROM:+0200
TZOFFSETTO:+0100
TZNAME:CET
DTSTART:20261025T010000
END:STANDARD
END:VTIMEZONE
BEGIN:VEVENT
DTSTART;TZID=Europe/Rome:20251108T090000
DTEND;TZID=Europe/Rome:20251108T180000
DTSTAMP:20260420T074628
CREATED:20250613T091732Z
LAST-MODIFIED:20251007T080230Z
UID:594-1762592400-1762624800@formazionegc.eve-lab.com
SUMMARY:Flow Injection technique\, restauri diretti e indiretti: come trattare il gruppo frontale
DESCRIPTION:Relatore: Edoardo Yang Fossati. Corso pratico in presenza.
URL:https://formazionegc.eve-lab.com/evento/flow-injection-technique-fossati-8novembre-napoli/
LOCATION:Montespina Park Hotel ****\, Via Prov. San Gennaro 2\, Napoli\, 80125\, Italy
CATEGORIES:Presenza,SOLD OUT,Studio
ATTACH;FMTTYPE=image/png:https://formazionegc.eve-lab.com/wp-content/uploads/2025/07/sold-out-2.png
END:VEVENT
BEGIN:VEVENT
DTSTART;TZID=Europe/Rome:20260117T090000
DTEND;TZID=Europe/Rome:20260117T170000
DTSTAMP:20260420T074628
CREATED:20250528T142144Z
LAST-MODIFIED:20251117T085346Z
UID:576-1768640400-1768669200@formazionegc.eve-lab.com
SUMMARY:Flow Injection technique
DESCRIPTION:Relatore: Marco Veneziani. Corso pratico in presenza.
URL:https://formazionegc.eve-lab.com/evento/flow-injection-technique-veneziani-06092025/
LOCATION:Sede GC Italia\, Via Luigi Cadorna 69\, Vimodrone (MI)\, Italy\, 20055
CATEGORIES:Presenza,SOLD OUT,Studio
ATTACH;FMTTYPE=image/png:https://formazionegc.eve-lab.com/wp-content/uploads/2025/07/sold-out-1.png
END:VEVENT
BEGIN:VEVENT
DTSTART;TZID=Europe/Rome:20260130T090000
DTEND;TZID=Europe/Rome:20260131T180000
DTSTAMP:20260420T074628
CREATED:20250701T094241Z
LAST-MODIFIED:20251114T084632Z
UID:602-1769763600-1769882400@formazionegc.eve-lab.com
SUMMARY:Intarsi\, faccette e flow injection: step by step di tutte le tecniche necessarie ad impostare una riabilitazione adesiva
DESCRIPTION:Relatori: Edoardo Yang Fossati\, Matteo Goretti. Corso pratico in presenza.
URL:https://formazionegc.eve-lab.com/evento/intarsi-faccette-e-flow-injection-30-31-gennaio-2026/
LOCATION:Sede Dental Club Bologna\, Via dei Fornaciai\, 29\, Bologna\, 40129\, Italy
CATEGORIES:Presenza,SOLD OUT,Studio
ATTACH;FMTTYPE=image/png:https://formazionegc.eve-lab.com/wp-content/uploads/2025/07/sold-out-5.png
END:VEVENT
BEGIN:VEVENT
DTSTART;TZID=Europe/Rome:20260207T090000
DTEND;TZID=Europe/Rome:20260207T180000
DTSTAMP:20260420T074628
CREATED:20251008T123831Z
LAST-MODIFIED:20260128T120120Z
UID:697-1770454800-1770487200@formazionegc.eve-lab.com
SUMMARY:Flow Injection technique\, restauri diretti e indiretti: come trattare il gruppo frontale
DESCRIPTION:Relatore: Edoardo Yang Fossati. Corso pratico in presenza.
URL:https://formazionegc.eve-lab.com/evento/flow-injection-technique-fossati-torino-febbraio-2026/
LOCATION:HOTEL DIPLOMATIC\, Via Cernaia\, 42\, Torino\, Piemonte\, 10122\, Italy
CATEGORIES:Presenza,SOLD OUT,Studio
ATTACH;FMTTYPE=image/png:https://formazionegc.eve-lab.com/wp-content/uploads/2025/07/sold-out-2.png
END:VEVENT
BEGIN:VEVENT
DTSTART;TZID=Europe/Rome:20260306T090000
DTEND;TZID=Europe/Rome:20260306T180000
DTSTAMP:20260420T074628
CREATED:20250728T123839Z
LAST-MODIFIED:20260206T090339Z
UID:628-1772787600-1772820000@formazionegc.eve-lab.com
SUMMARY:Flow Injection technique: la soluzione più semplice per il veneering diretto
DESCRIPTION:Relatore: Vincenzo Attanasio. Corso pratico in presenza.
URL:https://formazionegc.eve-lab.com/evento/flow-injection-technique-attanasio-marzo2026/
LOCATION:Novotel Roma Est\, Via Andrea Noale 291\, Roma\, Roma\, 00155\, Italy
CATEGORIES:Presenza,SOLD OUT,Studio
ATTACH;FMTTYPE=image/png:https://formazionegc.eve-lab.com/wp-content/uploads/2026/02/11.png
END:VEVENT
BEGIN:VEVENT
DTSTART;TZID=Europe/Rome:20260314T090000
DTEND;TZID=Europe/Rome:20260314T180000
DTSTAMP:20260420T074628
CREATED:20251001T103016Z
LAST-MODIFIED:20260303T105533Z
UID:673-1773478800-1773511200@formazionegc.eve-lab.com
SUMMARY:Flow Injection technique: progettazione estetica guidata e procedure cliniche per il successo
DESCRIPTION:Relatore: Federico Emiliani. Corso pratico in presenza.
URL:https://formazionegc.eve-lab.com/evento/flow-injection-technique-emiliani-marzo-pescara/
LOCATION:MOOD HOTEL\, Via Tito De Caesaris\, 8\, Marina di Città Sant'Angelo\, Pescara\, 65013\, Italy
CATEGORIES:Presenza,SOLD OUT,Studio
ATTACH;FMTTYPE=image/png:https://formazionegc.eve-lab.com/wp-content/uploads/2025/07/sold-out-3.png
END:VEVENT
BEGIN:VEVENT
DTSTART;TZID=Europe/Rome:20260327T090000
DTEND;TZID=Europe/Rome:20260327T180000
DTSTAMP:20260420T074628
CREATED:20250910T094712Z
LAST-MODIFIED:20260213T105714Z
UID:650-1774602000-1774634400@formazionegc.eve-lab.com
SUMMARY:Flow Injection technique\, restauri diretti e indiretti: come trattare il gruppo frontale
DESCRIPTION:Relatore: Edoardo Yang Fossati. Corso pratico in presenza.
URL:https://formazionegc.eve-lab.com/evento/flow-injection-technique-fossati-bergamo-marzo-2026/
LOCATION:AIRPORT HOTEL Bergamo\, Via Don Ubiali 1\, Bagnatica\, Bergamo\, 24060\, Italy
CATEGORIES:Presenza,SOLD OUT,Studio
ATTACH;FMTTYPE=image/png:https://formazionegc.eve-lab.com/wp-content/uploads/2025/07/sold-out-2.png
END:VEVENT
BEGIN:VEVENT
DTSTART;TZID=Europe/Rome:20260328T090000
DTEND;TZID=Europe/Rome:20260328T180000
DTSTAMP:20260420T074628
CREATED:20250910T102745Z
LAST-MODIFIED:20260312T135251Z
UID:654-1774688400-1774720800@formazionegc.eve-lab.com
SUMMARY:Flow Injection technique: la soluzione più semplice per il veneering diretto
DESCRIPTION:Relatore: Vincenzo Attanasio. Corso pratico in presenza.
URL:https://formazionegc.eve-lab.com/evento/flow-injection-technique-attanasio-cosenza-marzo-2026/
LOCATION:BV President Hotel\, Via A. Volta 47/49\, Rende (CS)\, Cosenza\, 87036\, Italy
CATEGORIES:Presenza,SOLD OUT,Studio
ATTACH;FMTTYPE=image/png:https://formazionegc.eve-lab.com/wp-content/uploads/2026/02/11.png
END:VEVENT
BEGIN:VEVENT
DTSTART;TZID=Europe/Rome:20260523T090000
DTEND;TZID=Europe/Rome:20260523T180000
DTSTAMP:20260420T074628
CREATED:20260109T103426Z
LAST-MODIFIED:20260330T145337Z
UID:724-1779526800-1779559200@formazionegc.eve-lab.com
SUMMARY:Flow Injection technique: la soluzione più semplice per il veneering diretto
DESCRIPTION:Relatore: Vincenzo Attanasio. Corso pratico in presenza.
URL:https://formazionegc.eve-lab.com/evento/flow-injection-technique-attanasio-napoli-maggio-2026/
LOCATION:Montespina Park Hotel ****\, Via Prov. San Gennaro 2\, Napoli\, 80125\, Italy
CATEGORIES:Presenza,SOLD OUT,Studio
ATTACH;FMTTYPE=image/png:https://formazionegc.eve-lab.com/wp-content/uploads/2026/02/11.png
END:VEVENT
END:VCALENDAR