BEGIN:VCALENDAR
VERSION:2.0
PRODID:-//Formazione GC - ECPv6.13.2//NONSGML v1.0//EN
CALSCALE:GREGORIAN
METHOD:PUBLISH
X-WR-CALNAME:Formazione GC
X-ORIGINAL-URL:https://formazionegc.eve-lab.com
X-WR-CALDESC:Eventi per Formazione GC
REFRESH-INTERVAL;VALUE=DURATION:PT1H
X-Robots-Tag:noindex
X-PUBLISHED-TTL:PT1H
BEGIN:VTIMEZONE
TZID:Europe/Rome
BEGIN:DAYLIGHT
TZOFFSETFROM:+0100
TZOFFSETTO:+0200
TZNAME:CEST
DTSTART:20250330T010000
END:DAYLIGHT
BEGIN:STANDARD
TZOFFSETFROM:+0200
TZOFFSETTO:+0100
TZNAME:CET
DTSTART:20251026T010000
END:STANDARD
END:VTIMEZONE
BEGIN:VEVENT
DTSTART;TZID=Europe/Rome:20250522T200000
DTEND;TZID=Europe/Rome:20250522T210000
DTSTAMP:20260420T002155
CREATED:20250411T101600Z
LAST-MODIFIED:20250411T101602Z
UID:496-1747944000-1747947600@formazionegc.eve-lab.com
SUMMARY:1000 + 1 utilizzi dei compositi Flow
DESCRIPTION:Relatore: Marco Bambace. Webinar online gratuito.
URL:https://formazionegc.eve-lab.com/evento/1000-1-utilizzi-dei-compositi-flow-220525/
LOCATION:Piattaforma Microsoft Teams
CATEGORIES:Online,Studio
ATTACH;FMTTYPE=image/jpeg:https://formazionegc.eve-lab.com/wp-content/uploads/2025/01/img14.jpg
END:VEVENT
END:VCALENDAR