BEGIN:VCALENDAR
VERSION:2.0
PRODID:-//Formazione GC - ECPv6.13.2//NONSGML v1.0//EN
CALSCALE:GREGORIAN
METHOD:PUBLISH
X-ORIGINAL-URL:https://formazionegc.eve-lab.com
X-WR-CALDESC:Eventi per Formazione GC
REFRESH-INTERVAL;VALUE=DURATION:PT1H
X-Robots-Tag:noindex
X-PUBLISHED-TTL:PT1H
BEGIN:VTIMEZONE
TZID:Europe/Rome
BEGIN:DAYLIGHT
TZOFFSETFROM:+0100
TZOFFSETTO:+0200
TZNAME:CEST
DTSTART:20250330T010000
END:DAYLIGHT
BEGIN:STANDARD
TZOFFSETFROM:+0200
TZOFFSETTO:+0100
TZNAME:CET
DTSTART:20251026T010000
END:STANDARD
END:VTIMEZONE
BEGIN:VEVENT
DTSTART;TZID=Europe/Rome:20250301T090000
DTEND;TZID=Europe/Rome:20250301T170000
DTSTAMP:20260422T194821
CREATED:20250409T174339Z
LAST-MODIFIED:20250409T223957Z
UID:453-1740819600-1740848400@formazionegc.eve-lab.com
SUMMARY:Stratificazione di materiali compositi su Zirconia
DESCRIPTION:Relatore: Luigi De Stefano. Corso pratico in presenza
URL:https://formazionegc.eve-lab.com/evento/stratificazione-materiali-compositi-zirconia-010325/
LOCATION:Laboratorio Dentalteam S.a.s. di Rossi Andrea & C.\, Via Daniele Moro 8\, Codroipo\, (UD)\, 3033\, Italy
CATEGORIES:Laboratorio,Presenza
ATTACH;FMTTYPE=image/jpeg:https://formazionegc.eve-lab.com/wp-content/uploads/2025/01/img14.jpg
END:VEVENT
BEGIN:VEVENT
DTSTART;TZID=Europe/Rome:20250307T090000
DTEND;TZID=Europe/Rome:20250307T180000
DTSTAMP:20260422T194821
CREATED:20250409T174727Z
LAST-MODIFIED:20250409T224039Z
UID:457-1741338000-1741370400@formazionegc.eve-lab.com
SUMMARY:Flow Injection technique\, restauri diretti e indiretti: come trattare il gruppo frontale
DESCRIPTION:Relatore: Edoardo Yang Fossati. Corso pratico in presenza.
URL:https://formazionegc.eve-lab.com/evento/flow-injection-technique-gruppo-frontale-070325/
LOCATION:Sede Dental Club Bologna\, Via dei Fornaciai\, 29\, Bologna\, 40129\, Italy
CATEGORIES:Presenza,Studio
ATTACH;FMTTYPE=image/jpeg:https://formazionegc.eve-lab.com/wp-content/uploads/2025/01/img14-1.jpg
END:VEVENT
BEGIN:VEVENT
DTSTART;TZID=Europe/Rome:20250328T100000
DTEND;TZID=Europe/Rome:20250328T180000
DTSTAMP:20260422T194821
CREATED:20250410T073739Z
LAST-MODIFIED:20250410T073805Z
UID:471-1743156000-1743184800@formazionegc.eve-lab.com
SUMMARY:Flow Injection technique
DESCRIPTION:Relatore: Matteo Goretti. Corso pratico in presenza.
URL:https://formazionegc.eve-lab.com/evento/flow-injection-technique-280325/
LOCATION:Hotel Bracciotti\, Viale Cristoforo Colombo\, 366\, Lido di Camaiore\, (LU)\, 55041\, Italy
CATEGORIES:Presenza,Studio
ATTACH;FMTTYPE=image/jpeg:https://formazionegc.eve-lab.com/wp-content/uploads/2025/04/img14-1.jpg
END:VEVENT
END:VCALENDAR